BEGIN:VCALENDAR
VERSION:2.0
PRODID:-//Children&#039;s Book World - ECPv6.15.20//NONSGML v1.0//EN
CALSCALE:GREGORIAN
METHOD:PUBLISH
X-WR-CALNAME:Children&#039;s Book World
X-ORIGINAL-URL:https://childrensbookworld.net
X-WR-CALDESC:Events for Children&#039;s Book World
REFRESH-INTERVAL;VALUE=DURATION:PT1H
X-Robots-Tag:noindex
X-PUBLISHED-TTL:PT1H
BEGIN:VTIMEZONE
TZID:America/New_York
BEGIN:DAYLIGHT
TZOFFSETFROM:-0500
TZOFFSETTO:-0400
TZNAME:EDT
DTSTART:20250309T070000
END:DAYLIGHT
BEGIN:STANDARD
TZOFFSETFROM:-0400
TZOFFSETTO:-0500
TZNAME:EST
DTSTART:20251102T060000
END:STANDARD
BEGIN:DAYLIGHT
TZOFFSETFROM:-0500
TZOFFSETTO:-0400
TZNAME:EDT
DTSTART:20260308T070000
END:DAYLIGHT
BEGIN:STANDARD
TZOFFSETFROM:-0400
TZOFFSETTO:-0500
TZNAME:EST
DTSTART:20261101T060000
END:STANDARD
BEGIN:DAYLIGHT
TZOFFSETFROM:-0500
TZOFFSETTO:-0400
TZNAME:EDT
DTSTART:20270314T070000
END:DAYLIGHT
BEGIN:STANDARD
TZOFFSETFROM:-0400
TZOFFSETTO:-0500
TZNAME:EST
DTSTART:20271107T060000
END:STANDARD
END:VTIMEZONE
BEGIN:VEVENT
DTSTART;TZID=America/New_York:20260321T110000
DTEND;TZID=America/New_York:20260321T120100
DTSTAMP:20260420T015937
CREATED:20260204T173629Z
LAST-MODIFIED:20260204T173629Z
UID:97815362053643-1774090800-1774094460@childrensbookworld.net
SUMMARY:Helen Kemp Zax with "Little Bunny’s To-Do List" at CBW
DESCRIPTION:Bring your little ones to Children’s Book World on Saturday\, March 21st for this special storytime with author of “Little Bunny’s To-Do List\,” Helen Kemp Zax. We hope you can hop on over to join us! \nVisit the Page for Helen Kemp Zax at CBW!
URL:https://childrensbookworld.net/event/helen-kemp-zax-with-little-bunnys-to-do-list-at-cbw/
LOCATION:Children’s Book World\, 17 Haverford Station Rd.\, Haverford\, PA\, 19041\, United States
ATTACH;FMTTYPE=image/jpeg:https://childrensbookworld.net/wp-content/uploads/2026/02/20260321_HelenZaxatCBW_Banner.jpg
END:VEVENT
END:VCALENDAR