BEGIN:VCALENDAR
VERSION:2.0
PRODID:-//Children&#039;s Book World - ECPv6.15.20//NONSGML v1.0//EN
CALSCALE:GREGORIAN
METHOD:PUBLISH
X-ORIGINAL-URL:https://childrensbookworld.net
X-WR-CALDESC:Events for Children&#039;s Book World
REFRESH-INTERVAL;VALUE=DURATION:PT1H
X-Robots-Tag:noindex
X-PUBLISHED-TTL:PT1H
BEGIN:VTIMEZONE
TZID:America/New_York
BEGIN:DAYLIGHT
TZOFFSETFROM:-0500
TZOFFSETTO:-0400
TZNAME:EDT
DTSTART:20250309T070000
END:DAYLIGHT
BEGIN:STANDARD
TZOFFSETFROM:-0400
TZOFFSETTO:-0500
TZNAME:EST
DTSTART:20251102T060000
END:STANDARD
BEGIN:DAYLIGHT
TZOFFSETFROM:-0500
TZOFFSETTO:-0400
TZNAME:EDT
DTSTART:20260308T070000
END:DAYLIGHT
BEGIN:STANDARD
TZOFFSETFROM:-0400
TZOFFSETTO:-0500
TZNAME:EST
DTSTART:20261101T060000
END:STANDARD
BEGIN:DAYLIGHT
TZOFFSETFROM:-0500
TZOFFSETTO:-0400
TZNAME:EDT
DTSTART:20270314T070000
END:DAYLIGHT
BEGIN:STANDARD
TZOFFSETFROM:-0400
TZOFFSETTO:-0500
TZNAME:EST
DTSTART:20271107T060000
END:STANDARD
END:VTIMEZONE
BEGIN:VEVENT
DTSTART;TZID=America/New_York:20260322T123000
DTEND;TZID=America/New_York:20260322T133000
DTSTAMP:20260420T020207
CREATED:20260113T003915Z
LAST-MODIFIED:20260113T005608Z
UID:97815362053143-1774182600-1774186200@childrensbookworld.net
SUMMARY:Kristine A. Lombardi at CBW with "Crouton"
DESCRIPTION:We hope you can join us for this special Sunday storytime featuring the new book Crouton by author Kristine A. Lombardi! Perfect for cat lovers or anyone who has ever adopted a pet\, this simple story told from kitty’s perspective will inspire readers to see the world through the eyes of the pets that chose them. \nVisit the page for Kristine A. Lombardi at CBW!
URL:https://childrensbookworld.net/event/katherine-a-lombardi-at-cbw-with-crouton/
LOCATION:Children’s Book World\, 17 Haverford Station Rd.\, Haverford\, PA\, 19041\, United States
ATTACH;FMTTYPE=image/jpeg:https://childrensbookworld.net/wp-content/uploads/2026/01/20260322-KristineALombardiAtCBW-BannerV2.jpg
END:VEVENT
END:VCALENDAR