BEGIN:VCALENDAR
VERSION:2.0
PRODID:-//Children&#039;s Book World - ECPv6.15.20//NONSGML v1.0//EN
CALSCALE:GREGORIAN
METHOD:PUBLISH
X-WR-CALNAME:Children&#039;s Book World
X-ORIGINAL-URL:https://childrensbookworld.net
X-WR-CALDESC:Events for Children&#039;s Book World
REFRESH-INTERVAL;VALUE=DURATION:PT1H
X-Robots-Tag:noindex
X-PUBLISHED-TTL:PT1H
BEGIN:VTIMEZONE
TZID:America/New_York
BEGIN:DAYLIGHT
TZOFFSETFROM:-0500
TZOFFSETTO:-0400
TZNAME:EDT
DTSTART:20250309T070000
END:DAYLIGHT
BEGIN:STANDARD
TZOFFSETFROM:-0400
TZOFFSETTO:-0500
TZNAME:EST
DTSTART:20251102T060000
END:STANDARD
BEGIN:DAYLIGHT
TZOFFSETFROM:-0500
TZOFFSETTO:-0400
TZNAME:EDT
DTSTART:20260308T070000
END:DAYLIGHT
BEGIN:STANDARD
TZOFFSETFROM:-0400
TZOFFSETTO:-0500
TZNAME:EST
DTSTART:20261101T060000
END:STANDARD
BEGIN:DAYLIGHT
TZOFFSETFROM:-0500
TZOFFSETTO:-0400
TZNAME:EDT
DTSTART:20270314T070000
END:DAYLIGHT
BEGIN:STANDARD
TZOFFSETFROM:-0400
TZOFFSETTO:-0500
TZNAME:EST
DTSTART:20271107T060000
END:STANDARD
END:VTIMEZONE
BEGIN:VEVENT
DTSTART;TZID=America/New_York:20260425T140000
DTEND;TZID=America/New_York:20260425T150000
DTSTAMP:20260420T001424
CREATED:20260327T162253Z
LAST-MODIFIED:20260402T230004Z
UID:97815362055259-1777125600-1777129200@childrensbookworld.net
SUMMARY:Special Event: Brandon Mull at CBW with "Guardians: Forbidden Mountain" to Celebrate Independent Bookstore Day! Visit Our Sidewalk Sale!
DESCRIPTION:Children’s Book World is thrilled to welcome Brandon Mull\, the #1 New York Times-bestselling author of the Fablehaven and Beyonders series. We’ll help celebrate his epic new fantasy set in a world where children bond with a spiritual guide — some promising greatness and glory\, while others\, destruction and death. \nThis deluxe hardcover edition features exquisitely designed sprayed edges complete with gold swords! \nVisit the page for Brandon Mull at CBW!
URL:https://childrensbookworld.net/event/brandon-mull-at-cbw-with-guardians-forbidden-mountain/
LOCATION:Children’s Book World\, 17 Haverford Station Rd.\, Haverford\, PA\, 19041\, United States
ATTACH;FMTTYPE=image/jpeg:https://childrensbookworld.net/wp-content/uploads/2026/03/20260425_MullAtCBW_Banner.jpg
END:VEVENT
END:VCALENDAR