BEGIN:VCALENDAR
VERSION:2.0
PRODID:-//Children&#039;s Book World - ECPv6.15.20//NONSGML v1.0//EN
CALSCALE:GREGORIAN
METHOD:PUBLISH
X-WR-CALNAME:Children&#039;s Book World
X-ORIGINAL-URL:https://childrensbookworld.net
X-WR-CALDESC:Events for Children&#039;s Book World
REFRESH-INTERVAL;VALUE=DURATION:PT1H
X-Robots-Tag:noindex
X-PUBLISHED-TTL:PT1H
BEGIN:VTIMEZONE
TZID:America/New_York
BEGIN:DAYLIGHT
TZOFFSETFROM:-0500
TZOFFSETTO:-0400
TZNAME:EDT
DTSTART:20250309T070000
END:DAYLIGHT
BEGIN:STANDARD
TZOFFSETFROM:-0400
TZOFFSETTO:-0500
TZNAME:EST
DTSTART:20251102T060000
END:STANDARD
BEGIN:DAYLIGHT
TZOFFSETFROM:-0500
TZOFFSETTO:-0400
TZNAME:EDT
DTSTART:20260308T070000
END:DAYLIGHT
BEGIN:STANDARD
TZOFFSETFROM:-0400
TZOFFSETTO:-0500
TZNAME:EST
DTSTART:20261101T060000
END:STANDARD
BEGIN:DAYLIGHT
TZOFFSETFROM:-0500
TZOFFSETTO:-0400
TZNAME:EDT
DTSTART:20270314T070000
END:DAYLIGHT
BEGIN:STANDARD
TZOFFSETFROM:-0400
TZOFFSETTO:-0500
TZNAME:EST
DTSTART:20271107T060000
END:STANDARD
END:VTIMEZONE
BEGIN:VEVENT
DTSTART;TZID=America/New_York:20260513T160000
DTEND;TZID=America/New_York:20260513T170000
DTSTAMP:20260420T020031
CREATED:20260408T171947Z
LAST-MODIFIED:20260408T172104Z
UID:97815362055669-1778688000-1778691600@childrensbookworld.net
SUMMARY:Books and Baking: Virtual Event with Jen Calonita Baking Wally's Chocolate Chip Cookies from Isle of Ever #2: The Curse Breaker
DESCRIPTION:Virtually join award winning author (and great baker) Jen Calonita live streaming from her kitchen via CBW’s Facebook and YouTube. \nThis is a brand new season of monthly baking shows that tie together books and their authors with delicious recipes you can make at home. Jen and her famous guests will share fascinating inside stories about some of the best middle grade books around\, while you learn how to create fun food. \nVisit the Books and Baking with Jen Calonita Page!
URL:https://childrensbookworld.net/event/books-and-baking-virtual-event-with-jen-calonita-and-a-special-guest/
LOCATION:YouTube or Facebook\, The World Wide Web\, PA\, United States
ATTACH;FMTTYPE=image/png:https://childrensbookworld.net/wp-content/uploads/2026/04/20260513_BooksandBakingWithJenCalonita_Flyer.png
END:VEVENT
END:VCALENDAR