BEGIN:VCALENDAR
VERSION:2.0
PRODID:-//Children&#039;s Book World - ECPv6.15.20//NONSGML v1.0//EN
CALSCALE:GREGORIAN
METHOD:PUBLISH
X-WR-CALNAME:Children&#039;s Book World
X-ORIGINAL-URL:https://childrensbookworld.net
X-WR-CALDESC:Events for Children&#039;s Book World
REFRESH-INTERVAL;VALUE=DURATION:PT1H
X-Robots-Tag:noindex
X-PUBLISHED-TTL:PT1H
BEGIN:VTIMEZONE
TZID:America/New_York
BEGIN:DAYLIGHT
TZOFFSETFROM:-0500
TZOFFSETTO:-0400
TZNAME:EDT
DTSTART:20250309T070000
END:DAYLIGHT
BEGIN:STANDARD
TZOFFSETFROM:-0400
TZOFFSETTO:-0500
TZNAME:EST
DTSTART:20251102T060000
END:STANDARD
BEGIN:DAYLIGHT
TZOFFSETFROM:-0500
TZOFFSETTO:-0400
TZNAME:EDT
DTSTART:20260308T070000
END:DAYLIGHT
BEGIN:STANDARD
TZOFFSETFROM:-0400
TZOFFSETTO:-0500
TZNAME:EST
DTSTART:20261101T060000
END:STANDARD
BEGIN:DAYLIGHT
TZOFFSETFROM:-0500
TZOFFSETTO:-0400
TZNAME:EDT
DTSTART:20270314T070000
END:DAYLIGHT
BEGIN:STANDARD
TZOFFSETFROM:-0400
TZOFFSETTO:-0500
TZNAME:EST
DTSTART:20271107T060000
END:STANDARD
END:VTIMEZONE
BEGIN:VEVENT
DTSTART;TZID=America/New_York:20260419T120000
DTEND;TZID=America/New_York:20260419T160000
DTSTAMP:20260419T084945
CREATED:20260402T225405Z
LAST-MODIFIED:20260409T155349Z
UID:97815362055482-1776600000-1776614400@childrensbookworld.net
SUMMARY:Sunday Spotlight at CBW - Ott\, Izzi\, Gulati\, Auchenbach\, Concini-Moore\, Aunt Mimi
DESCRIPTION:CBW is proud to once again shine a spotlight on local authors and their terrific books! Join us at Children’s Book World on\nSunday\, April 19\, 2026 from 12 – 4pm. \nVisit the page for Sunday Spotlight at CBW on April 19!
URL:https://childrensbookworld.net/event/sunday-spotlight-at-cbw-ott-izzi-gulati-auchenbach-concini-moore-aunt-mimi/
LOCATION:Children’s Book World\, 17 Haverford Station Rd.\, Haverford\, PA\, 19041\, United States
ATTACH;FMTTYPE=image/jpeg:https://childrensbookworld.net/wp-content/uploads/2026/04/20260419_SundaySpotlightAprAtCBW_Banner.jpg
END:VEVENT
BEGIN:VEVENT
DTSTART;TZID=America/New_York:20260419T160000
DTEND;TZID=America/New_York:20260419T170000
DTSTAMP:20260419T084945
CREATED:20260223T230510Z
LAST-MODIFIED:20260223T230510Z
UID:97815362054290-1776614400-1776618000@childrensbookworld.net
SUMMARY:Laurie Morrison in Conversation with Cordelia Jensen about her new book "Where Ella Went"
DESCRIPTION:We are so excited to join author Laurie Morrison in conversation with author Cordelia Jensen at The Philadelphia School Garage at 2501 South Street on April 19th at 4 PM.\nLaurie will talk about her newest book Where Ella Went \nVisit the page for Laurie Morrison at the Philadelphia School Garage
URL:https://childrensbookworld.net/event/laurie-morrison-in-conversation-with-cordelia-jensen-about-her-new-book-where-ella-went/
LOCATION:The Philadelphia School\, 2501 Lombard Street\, Philadelphia\, PA\, 19146\, United States
ATTACH;FMTTYPE=image/jpeg:https://childrensbookworld.net/wp-content/uploads/2026/02/20260419-LaurieMorrisonAtCBW_Banner.jpg
END:VEVENT
BEGIN:VEVENT
DTSTART;TZID=America/New_York:20260421T190000
DTEND;TZID=America/New_York:20260421T200000
DTSTAMP:20260419T084945
CREATED:20260204T193829Z
LAST-MODIFIED:20260204T193829Z
UID:97815362053660-1776798000-1776801600@childrensbookworld.net
SUMMARY:Kate Messner and Brian Biggs at CBW with "The Whale's Tale and the Otter Side of the Story"
DESCRIPTION:Join us to celebrate Launch Day for Kate Messner’s and Brian Biggs’ clever new picture book: “The Whale’s Tale and the Otter Side of the Story” \n  \nVisit the page for Kate Messner and Brian Biggs at CBW
URL:https://childrensbookworld.net/event/kate-messner-and-brian-biggs-at-cbw-with-the-whales-tale-and-the-otter-side-of-the-story/
LOCATION:Children’s Book World\, 17 Haverford Station Rd.\, Haverford\, PA\, 19041\, United States
CATEGORIES:LaunchEvent
ATTACH;FMTTYPE=image/jpeg:https://childrensbookworld.net/wp-content/uploads/2026/02/20260421_MessnerAndBiggsAtCBW-Banner.jpg
END:VEVENT
BEGIN:VEVENT
DTSTART;TZID=America/New_York:20260425T140000
DTEND;TZID=America/New_York:20260425T150000
DTSTAMP:20260419T084945
CREATED:20260327T162253Z
LAST-MODIFIED:20260402T230004Z
UID:97815362055259-1777125600-1777129200@childrensbookworld.net
SUMMARY:Special Event: Brandon Mull at CBW with "Guardians: Forbidden Mountain" to Celebrate Independent Bookstore Day! Visit Our Sidewalk Sale!
DESCRIPTION:Children’s Book World is thrilled to welcome Brandon Mull\, the #1 New York Times-bestselling author of the Fablehaven and Beyonders series. We’ll help celebrate his epic new fantasy set in a world where children bond with a spiritual guide — some promising greatness and glory\, while others\, destruction and death. \nThis deluxe hardcover edition features exquisitely designed sprayed edges complete with gold swords! \nVisit the page for Brandon Mull at CBW!
URL:https://childrensbookworld.net/event/brandon-mull-at-cbw-with-guardians-forbidden-mountain/
LOCATION:Children’s Book World\, 17 Haverford Station Rd.\, Haverford\, PA\, 19041\, United States
ATTACH;FMTTYPE=image/jpeg:https://childrensbookworld.net/wp-content/uploads/2026/03/20260425_MullAtCBW_Banner.jpg
END:VEVENT
BEGIN:VEVENT
DTSTART;TZID=America/New_York:20260429T180000
DTEND;TZID=America/New_York:20260429T200000
DTSTAMP:20260419T084945
CREATED:20260402T230311Z
LAST-MODIFIED:20260402T230311Z
UID:97815362055489-1777485600-1777492800@childrensbookworld.net
SUMMARY:Cozy Craft Night at CBW!
DESCRIPTION:Do you needlepoint? Knit? Cross stitch? Journal? Water color? Doodle?\nWhatever your craft\, bring it along and join us at Children’s Book World for a Cozy Crafting Night! We’ll meet at the store from 6 – 8 PM on the last Wednesday of each month. \nVisit the Cozy Craft Nights at CBW Page!
URL:https://childrensbookworld.net/event/cozy-craft-night-at-cbw/
LOCATION:Children’s Book World\, 17 Haverford Station Rd.\, Haverford\, PA\, 19041\, United States
ATTACH;FMTTYPE=image/jpeg:https://childrensbookworld.net/wp-content/uploads/2026/03/NoDate-Cozy-Craft-Nights_Banner.jpg
END:VEVENT
END:VCALENDAR