BEGIN:VCALENDAR
VERSION:2.0
PRODID:-//Children&#039;s Book World - ECPv6.15.20//NONSGML v1.0//EN
CALSCALE:GREGORIAN
METHOD:PUBLISH
X-WR-CALNAME:Children&#039;s Book World
X-ORIGINAL-URL:https://childrensbookworld.net
X-WR-CALDESC:Events for Children&#039;s Book World
REFRESH-INTERVAL;VALUE=DURATION:PT1H
X-Robots-Tag:noindex
X-PUBLISHED-TTL:PT1H
BEGIN:VTIMEZONE
TZID:America/New_York
BEGIN:DAYLIGHT
TZOFFSETFROM:-0500
TZOFFSETTO:-0400
TZNAME:EDT
DTSTART:20250309T070000
END:DAYLIGHT
BEGIN:STANDARD
TZOFFSETFROM:-0400
TZOFFSETTO:-0500
TZNAME:EST
DTSTART:20251102T060000
END:STANDARD
BEGIN:DAYLIGHT
TZOFFSETFROM:-0500
TZOFFSETTO:-0400
TZNAME:EDT
DTSTART:20260308T070000
END:DAYLIGHT
BEGIN:STANDARD
TZOFFSETFROM:-0400
TZOFFSETTO:-0500
TZNAME:EST
DTSTART:20261101T060000
END:STANDARD
BEGIN:DAYLIGHT
TZOFFSETFROM:-0500
TZOFFSETTO:-0400
TZNAME:EDT
DTSTART:20270314T070000
END:DAYLIGHT
BEGIN:STANDARD
TZOFFSETFROM:-0400
TZOFFSETTO:-0500
TZNAME:EST
DTSTART:20271107T060000
END:STANDARD
END:VTIMEZONE
BEGIN:VEVENT
DTSTART;TZID=America/New_York:20260421T190000
DTEND;TZID=America/New_York:20260421T200000
DTSTAMP:20260420T020028
CREATED:20260204T193829Z
LAST-MODIFIED:20260204T193829Z
UID:97815362053660-1776798000-1776801600@childrensbookworld.net
SUMMARY:Kate Messner and Brian Biggs at CBW with "The Whale's Tale and the Otter Side of the Story"
DESCRIPTION:Join us to celebrate Launch Day for Kate Messner’s and Brian Biggs’ clever new picture book: “The Whale’s Tale and the Otter Side of the Story” \n  \nVisit the page for Kate Messner and Brian Biggs at CBW
URL:https://childrensbookworld.net/event/kate-messner-and-brian-biggs-at-cbw-with-the-whales-tale-and-the-otter-side-of-the-story/
LOCATION:Children’s Book World\, 17 Haverford Station Rd.\, Haverford\, PA\, 19041\, United States
CATEGORIES:LaunchEvent
ATTACH;FMTTYPE=image/jpeg:https://childrensbookworld.net/wp-content/uploads/2026/02/20260421_MessnerAndBiggsAtCBW-Banner.jpg
END:VEVENT
END:VCALENDAR