BEGIN:VCALENDAR
VERSION:2.0
PRODID:-//Children&#039;s Book World - ECPv6.15.20//NONSGML v1.0//EN
CALSCALE:GREGORIAN
METHOD:PUBLISH
X-WR-CALNAME:Children&#039;s Book World
X-ORIGINAL-URL:https://childrensbookworld.net
X-WR-CALDESC:Events for Children&#039;s Book World
REFRESH-INTERVAL;VALUE=DURATION:PT1H
X-Robots-Tag:noindex
X-PUBLISHED-TTL:PT1H
BEGIN:VTIMEZONE
TZID:America/New_York
BEGIN:DAYLIGHT
TZOFFSETFROM:-0500
TZOFFSETTO:-0400
TZNAME:EDT
DTSTART:20250309T070000
END:DAYLIGHT
BEGIN:STANDARD
TZOFFSETFROM:-0400
TZOFFSETTO:-0500
TZNAME:EST
DTSTART:20251102T060000
END:STANDARD
BEGIN:DAYLIGHT
TZOFFSETFROM:-0500
TZOFFSETTO:-0400
TZNAME:EDT
DTSTART:20260308T070000
END:DAYLIGHT
BEGIN:STANDARD
TZOFFSETFROM:-0400
TZOFFSETTO:-0500
TZNAME:EST
DTSTART:20261101T060000
END:STANDARD
BEGIN:DAYLIGHT
TZOFFSETFROM:-0500
TZOFFSETTO:-0400
TZNAME:EDT
DTSTART:20270314T070000
END:DAYLIGHT
BEGIN:STANDARD
TZOFFSETFROM:-0400
TZOFFSETTO:-0500
TZNAME:EST
DTSTART:20271107T060000
END:STANDARD
END:VTIMEZONE
BEGIN:VEVENT
DTSTART;TZID=America/New_York:20260610T160000
DTEND;TZID=America/New_York:20260610T170000
DTSTAMP:20260420T020116
CREATED:20260408T173018Z
LAST-MODIFIED:20260408T174911Z
UID:97815362055672-1781107200-1781110800@childrensbookworld.net
SUMMARY:Books and Baking Virtual Event with Jen Calonita!
DESCRIPTION:Virtually join award winning author (and great baker) Jen Calonita live streaming from her kitchen via CBW’s Facebook and YouTube. \nThis is a brand new season of monthly baking shows that tie together books and their authors with delicious recipes you can make at home. Jen and her famous guests will share fascinating inside stories about some of the best middle grade books around\, while you learn how to create fun food. \nVisit the Books and Baking with Jen Calonita Page!
URL:https://childrensbookworld.net/event/books-and-baking-virtual-event-with-jen-calonita/
LOCATION:YouTube or Facebook\, The World Wide Web\, PA\, United States
ATTACH;FMTTYPE=image/jpeg:https://childrensbookworld.net/wp-content/uploads/2026/04/NoDate_BooksandBakingWithJenCalonita_Flyer.jpg
END:VEVENT
BEGIN:VEVENT
DTSTART;TZID=America/New_York:20260611T190000
DTEND;TZID=America/New_York:20260611T200000
DTSTAMP:20260420T020116
CREATED:20260331T191445Z
LAST-MODIFIED:20260331T191445Z
UID:97815362055355-1781204400-1781208000@childrensbookworld.net
SUMMARY:Celebrate Pride with David Levithan and Gabriel Duckels and their book "The Fight of Our Lives\, AIDS in America"
DESCRIPTION:Award-winning author David Levithan and University of Cambridge PhD Gabriel Duckels detail a brief history of the AIDS epidemic\, touching on key moments and figures. Threaded throughout are poems\, essays\, and other creative works\, in addition to first-person interviews and narratives. \nFree Mom Hugs will also have a table with us this evening and will share how they make a difference. \nVisit the page for David Levithan and Gabriel Duckels at CBW
URL:https://childrensbookworld.net/event/celebrate-pride-with-david-levithan-and-gabriel-duckels-and-their-book-the-fight-of-our-lives-aids-in-america/
LOCATION:Children’s Book World\, 17 Haverford Station Rd.\, Haverford\, PA\, 19041\, United States
ATTACH;FMTTYPE=image/jpeg:https://childrensbookworld.net/wp-content/uploads/2026/03/2026-06-11_DAVID_LEVITHAN_Gabriel_Duckels_Banner.jpg
END:VEVENT
END:VCALENDAR